BEGIN:VCALENDAR
VERSION:2.0
PRODID:-//hacksw/handcal//NONSGML v1.0//EN
BEGIN:VEVENT
SUMMARY:Equipe 4_Entrainement-Cours
UID:032080be-469a-43d1-b42d-6c3e7c74b5b2
DTSTART:20260429T120000Z
DTEND:20260429T133000Z
LOCATION:Localisation   
CATEGORIES:Entrainement
STATUS:
URL;VALUE=URI:https://www.tcsmb37.fr/evenements/2026/04/29/equipe-4-entrainement-cours-2388505
END:VEVENT
END:VCALENDAR
